BEGIN:VCALENDAR
VERSION:2.0
PRODID:-//Zen Centrum Nijmegen - ECPv6.15.18//NONSGML v1.0//EN
CALSCALE:GREGORIAN
METHOD:PUBLISH
X-ORIGINAL-URL:https://zennijmegen.nl
X-WR-CALDESC:Evenementen voor Zen Centrum Nijmegen
REFRESH-INTERVAL;VALUE=DURATION:PT1H
X-Robots-Tag:noindex
X-PUBLISHED-TTL:PT1H
BEGIN:VTIMEZONE
TZID:Europe/Amsterdam
BEGIN:DAYLIGHT
TZOFFSETFROM:+0100
TZOFFSETTO:+0200
TZNAME:CEST
DTSTART:20240331T010000
END:DAYLIGHT
BEGIN:STANDARD
TZOFFSETFROM:+0200
TZOFFSETTO:+0100
TZNAME:CET
DTSTART:20241027T010000
END:STANDARD
BEGIN:DAYLIGHT
TZOFFSETFROM:+0100
TZOFFSETTO:+0200
TZNAME:CEST
DTSTART:20250330T010000
END:DAYLIGHT
BEGIN:STANDARD
TZOFFSETFROM:+0200
TZOFFSETTO:+0100
TZNAME:CET
DTSTART:20251026T010000
END:STANDARD
BEGIN:DAYLIGHT
TZOFFSETFROM:+0100
TZOFFSETTO:+0200
TZNAME:CEST
DTSTART:20260329T010000
END:DAYLIGHT
BEGIN:STANDARD
TZOFFSETFROM:+0200
TZOFFSETTO:+0100
TZNAME:CET
DTSTART:20261025T010000
END:STANDARD
END:VTIMEZONE
BEGIN:VEVENT
DTSTART;TZID=Europe/Amsterdam:20251109T120000
DTEND;TZID=Europe/Amsterdam:20251109T123000
DTSTAMP:20260421T065455
CREATED:20240806T100608Z
LAST-MODIFIED:20250919T123057Z
UID:10014167-1762689600-1762691400@zennijmegen.nl
SUMMARY:Stilte voor de wereld - voor welzijn van alle mensen\, dieren en de aarde
DESCRIPTION:Stilte voor de wereld\n			\n				\n				\n				\n				\n				voor welzijn van alle mensen\, dieren en de aarde\n			\n				\n				\n				\n				\n				Samen zitten in stilte op diverse plekken in Nederland. We staan stil bij uitdagingen van de mensen en de natuur in deze tijd. Stilte kan helpen om vrede\, kracht en verbinding te vinden in jezelf en met elkaar. Vanuit deze verbinding volgt de gezamenlijke verandering voor meer welzijn van alle mensen\, dieren en de aarde. Doe je mee? \nWanneer: elke 2e zondag van de maand van 12.00 – 12.30 uur \nWaar: De fontein op de boulevard voor station Nijmegen Centraal. Dit is in het midden van de Van Schaek Mathonsingel. Klik hier voor de locatie op Google Maps. \nVoor wie: Iedereen die zich betrokken voelt bij de grote uitdagingen van deze tijd \nHieronder een zomers en een winters plaatje: \n 
URL:https://zennijmegen.nl/event/stille-actie/2025-11-09/
LOCATION:Fontein voor Nijmegen CS\, Van Schaeck Mathonsingel\, Nijmegen
CATEGORIES:Extra aanbod
ATTACH;FMTTYPE=image/png:https://zennijmegen.nl/wp-content/uploads/2024/08/Stilte-web.png
END:VEVENT
BEGIN:VEVENT
DTSTART;TZID=Europe/Amsterdam:20251121T094500
DTEND;TZID=Europe/Amsterdam:20251121T113000
DTSTAMP:20260421T065456
CREATED:20251014T184340Z
LAST-MODIFIED:20251028T123452Z
UID:10014574-1763718300-1763724600@zennijmegen.nl
SUMMARY:Starterstraject zen 21 november
DESCRIPTION:STARTERSTRAJECT ZEN\n			\n				\n				\n				\n				\n				Het starterstraject is gericht op samen leren mediteren en een soepele instroom in onze sanghabijeenkomsten.\n			\n				\n				\n				\n				\n				Zen is een doorlopende oefening die je ieder moment weer als beginneling hebt aan te gaan. Tegelijkertijd helpt het enorm om dit samen te doen en daarvoor enige voorkennis en omgangsvormen met elkaar te delen. Vandaar dat we je in ons starterstraject in een relatief korte periode bekend maken met een aantal basisprincipes\, om daarna met alle andere ‘beginners’ in een van de sanghabijeenkomsten op je eigen tempo verder te kunnen oefenen.\n			\n			\n				\n				\n				\n				\n			\n				\n				\n			\n				\n				\n				\n				\n				\n				\n				\n				\n				\n				\n				\n				\n				\n				\n				\n				\n				\n				Voor wie?\nIedereen met interesse in persoonlijke en spirituele ontwikkeling en nauwelijks of geen ervaring met zenmeditatie. Voor wie wil oefenen om vanuit een open hart vreugdevol te leven. Belangrijk daarbij is bijvoorbeeld je nieuwsgierigheid naar hoe jij in de context van jouw leven (bijna) dagelijks kunt leren mediteren. De ervaring leert ook dat wie dit samen met anderen\, in een vertrouwde sfeer wil leren\, zich helemaal op zijn plek voelt. \nHet starterstraject bestaat uit zeven bijeenkomsten van 1 uur en 45 minuten. Gedurende de bijeenkomsten raak je vertrouwd met alle facetten van de zitmeditatie (zazen)\, de gebruiken in de meditatieruimte (zendo)\, en de eerste praktische beginselen van de zenfilosofie. Na het traject kun je direct deelnemen in onze sanghabijeenkomsten.\n			\n			\n				\n				\n				\n				\n				\n				\n				\n				\n				\n				\n			\n				\n				\n				\n				\n				\n			\n			\n				\n				\n				\n				\n			\n				\n				\n			\n				\n				\n				\n				\n				\n				\n				\n				\n				\n				\n				\n				\n				\n				\n				\n				\n				\n				\n			\n			\n				\n				\n				\n				\n				\n				\n				\n				\n				\n				Wanneer?\nvr. 21 nov. van 9:45-11:30 uurvr. 28 nov. van 9:45-11:30 uurvr. 5 dec. van 9:45-11:30 uurvr. 12 dec. van 9:45-11:30 uurvr. 19 dec. van 9:45-11:30 uurvr. 9 jan. van 9:45-11:30 uur vr. 16 jan. van 9:45-11:30 uur vr. 23 jan. van 9:45-11:30 uur (facultatieve sanghabijeenkomst) \n  \nDonatie\nWe vragen om een donatie van €95\,- en €75\,- met ‘draagkrachtkorting’.Mocht de donatie een onoverkomelijke hindernis zijn; neem dan vooral contact op dan zoeken we naar een oplossing. \nLocatie\nDit starterstraject vindt plaats in onze ‘dependance’ zendo op Petruslaan 1 in Heilig Landstichting. \nNa afronding van het starterstraject kun je meedoen in de sanghabijeenkomst op dinsdagavond en in alle andere zenbijeenkomsten die daar plaatsvinden. Deze bijeenkomsten zijn in De Zendo bij de ingang van Museumpark Orientalis. \n			\n			\n				\n				\n				\n				\n			\n				\n				\n			\n				\n				\n				\n				\n				\n				\n				\n				\n				\n				\n				\n				\n				\n				\n				\n				\n				\n				Inhoud\nAchtereenvolgens komen in de bijeenkomst de volgende onderwerpen aan bod: \n\nZazen en thuis mediteren – Zitinstructie\, houding en adem\nAandacht en rituelen – Aandachtig theedrinken en kinkin\nBoeddhisme & Zen – Hoe kun jij in zo’n oude traditie staan?\nGedachten\, emoties en stilte – Wat werkt er allemaal in meditatie?\nZenfilosofie –Hartsoetra\nZenfilosofie – Bodhisattvagelofte\nDoorgaande oefening  – Terugblik en vooruitkijken\nSanghabijeenkomst – meedoen in een sanghabijeenkomst\n\nOnze leraar Dick Benji roshi begeleidt dit starterstraject. \n			\n			\n				\n				\n				\n				\n				\n				\n				\n				\n				\n				\n			\n			\n				\n				\n				\n				\n			\n				\n				\n			\n				\n				\n				\n				\n				\n				\n				\n				\n				\n				\n				\n				\n				\n				\n				\n				\n				\n				Aanmelden\nVia het onderstaande formulier kunt u zich aanmelden voor deze activiteit.\n			\n			\n				\n				\n				\n				\n				\n				\n				\n				\n					\n						\n				\n				\n				\n				\n				Voornaam\n				\n			 \n				\n				\n				\n				\n				Achternaam\n				\n			 \n				\n				\n				\n				\n				Straat + huisnummer\n				\n			 \n				\n				\n				\n				\n				Postcode + woonplaats\n				\n			 \n				\n				\n				\n				\n				E-mailadres\n				\n			 \n				\n				\n				\n				\n				Telefoonnummer\n				\n			 \n				\n				\n				\n				\n				Bericht\n				\n			 \n						\n						\n							\n			\n				\n					15 + 4 = \n				 \n			\n							Aanmelden
URL:https://zennijmegen.nl/event/starterstraject-zen-21november2025/
LOCATION:Gelderland
CATEGORIES:Starterstraject
ATTACH;FMTTYPE=image/jpeg:https://zennijmegen.nl/wp-content/uploads/2022/06/Zen-Centrum-Nijmegen_Dick-Verstegen.jpg
END:VEVENT
BEGIN:VEVENT
DTSTART;TZID=Europe/Amsterdam:20251126T121500
DTEND;TZID=Europe/Amsterdam:20251126T170000
DTSTAMP:20260421T065456
CREATED:20240209T151857Z
LAST-MODIFIED:20251121T092333Z
UID:10013366-1764159300-1764176400@zennijmegen.nl
SUMMARY:Samu - werkmeditatie
DESCRIPTION:samu\n			\n				\n				\n				\n				\n				samu\n			\n				\n				\n				\n				\n				Van oudsher wordt ‘samu’ in de zentraditie gezien als het werk om het klooster in stand te houden.\n			\n				\n				\n				\n				\n				Bijvoorbeeld met aandacht de wc schoonmaken\, koken of tuinieren. Wie wel eens een zenretraite heeft gedaan is ermee bekend. Het is een activiteit waarmee je je eigen beoefening voortzet in alledaagse handelingen. Samu is daarmee niet wezenlijk anders dan je zitmeditatie. Het draait om precies dezelfde betrokkenheid bij wat op dit moment je aandacht vraagt. Hierin kun je een gevoel van verbinding en liefde ervaren. wat door je werkzaamheden ook anderen en je omgeving nog meer ten goede kan komen. Maar minstens zo belangrijk is dat je tijdens samu geconfronteerd kunt worden met gedoetjes waar je met elkaar in compassie van kunt proberen te leren. Verlichting op het kussen is één ding\, maar wat als je ervan af komt? Want hoe kom je samen tot een prettige aanpak en een goed resultaat? Juist samen door elkaar op humoristische\, verdrietige en uitdagende momenten te ontmoeten kun je relaties verdiepen\, of dat nou met jezelf\, de ander of de plek is. \n			\n			\n				\n				\n				\n				\n			\n				\n				\n				\n				\n				\n				\n				\n				\n				\n				\n				De komende tijd leggen we ons met name toe op de aanleg van de tuin rondom De Zendo. Met deze tuin hopen we de rust en inspiratie nog meer toegankelijk te maken voor onszelf\, maar ook voor alle passanten op het park met meer of minder interesse in zen. \nHet tuinieren brengt ons in de gelegenheid om aandacht\, speelsheid en verwondering kracht bij te zetten. Onze werktitel ‘spirituele speeltuin’ inspireert ons om te komen tot een tuin die Kwan Yin (de godin van compassie) siert. Wekelijks organiseren we een samu-moment op woensdagmiddag. Soms zijn er ook andere samu-dagen. Houd daarvoor de agenda in de gaten. \n			\n			\n				\n				\n				\n				\n			\n				\n				\n			\n				\n				\n				\n				\n				\n				\n				\n				\n				\n				\n				\n				\n				\n				\n				\n				\n				\n				Samen starten\nVoor ieder die wil aansluiten\, we starten het samu-moment met soep en brood en daarna een meditatie van 10 minuten en de bodhisattva-geloften. \n12.20u lunch met soep (a.j.b. even aanmelden via Lotte)12.45u 10 minuten meditatie en bodhisattva-geloften \nAls je later wilt komen is dat natuurlijk ook prima. Een uurtje helpen kan ook en iedereen kan de hele middag in- en uitlopen. \nDoe je mee?\nMeld je aan via 0683404090 en lotte@zennijmegen.nl dan houden we rekening met lekkers tijdens de koffie en thee! \nEr is ook een Signal-groep waarin je op de hoogte gehouden kan worden van ontwikkelingen en last-minute wijzigingen.Wil je hieraan toegevoegd worden? Stuur dan een berichtje naar Lotte via het bovenstaande nummer. \nBenieuwd naar alle geplande dagen? Bekijk hier de agenda. \n 
URL:https://zennijmegen.nl/event/samu-2-2-2/2025-11-26/
LOCATION:De Zendo\, Profetenlaan 2\, Heilig Landstichting\, Gelderland\, 6564 BL\, Nederland
CATEGORIES:Retraite
ATTACH;FMTTYPE=image/png:https://zennijmegen.nl/wp-content/uploads/2023/10/Samu.png
ORGANIZER;CN="Misha Yushin sensei":MAILTO:misha@zennijmegen.nl
END:VEVENT
BEGIN:VEVENT
DTSTART;TZID=Europe/Amsterdam:20251128T200000
DTEND;TZID=Europe/Amsterdam:20251128T220000
DTSTAMP:20260421T065456
CREATED:20251003T130754Z
LAST-MODIFIED:20251007T092136Z
UID:10014572-1764360000-1764367200@zennijmegen.nl
SUMMARY:Boekpresentatie 'Gedeeld besef'
DESCRIPTION:Boekpresentatie\n			\n				\n				\n				\n				\n				Mijn boek Welkom in de werkelijkheid kwam in 2023 in handen van mijn vroegere schoolvriend Hans Korteweg. Hij had op zijn beurt een behartenswaardig boek geschreven (Zonder einde) waaruit ik hem in Welkom citeerde. Zo vonden we elkaar weer.\n			\n				\n				\n				\n				\n				Door Dick Benji Roshi – Begin jaren zestig waren we uit elkaar gegroeid. En zestig jaar later had ik hem opeens weer aan de telefoon. Want hij was getroffen door het feit dat we spiritueel gezien op dezelfde golflengte zitten. We pakten onze oude vriendschap weer op en besloten samen een boek te schrijven. Dat is inmiddels af en het komt half november uit onder de titel Gedeeld besef\, brieven over het wonder in het alledaagse. \nSanghaleden en andere geïnteresseerden worden uitgenodigd bij de boekpresentatie in Zutphen aanwezig te zijn. De presentatie gebeurt in Dat Bolwerck en wordt georganiseerd door Uitgeverij Asoka in. samenwerking met Boekhandel Van Someren & Ten Bosch. Wacht niet te lang met je aanmelden\, want het aantal zitplaatsen in Dat Bolwerck is beperkt. Heel graag tot dan! \n Wanneer: Vrijdagavond 28 november van 20.00 tot ca 22.00 uur.Waar: Dat Bolwerck\, Zaadmarkt 112 – 7201 DE Zutphen. Aanmelden: stuur a.j.b. een mailtje naar welkom@zennijmegen.nl 
URL:https://zennijmegen.nl/event/boekpresentatie-gedeeld-besef/
LOCATION:De Zendo\, Profetenlaan 2\, Heilig Landstichting\, Gelderland\, 6564 BL\, Nederland
CATEGORIES:Retraite
ATTACH;FMTTYPE=image/png:https://zennijmegen.nl/wp-content/uploads/2025/10/boek.png
ORGANIZER;CN="Misha Yushin sensei":MAILTO:misha@zennijmegen.nl
END:VEVENT
END:VCALENDAR