BEGIN:VCALENDAR
VERSION:2.0
PRODID:-//Zen Centrum Nijmegen - ECPv6.15.18//NONSGML v1.0//EN
CALSCALE:GREGORIAN
METHOD:PUBLISH
X-WR-CALNAME:Zen Centrum Nijmegen
X-ORIGINAL-URL:https://zennijmegen.nl
X-WR-CALDESC:Evenementen voor Zen Centrum Nijmegen
REFRESH-INTERVAL;VALUE=DURATION:PT1H
X-Robots-Tag:noindex
X-PUBLISHED-TTL:PT1H
BEGIN:VTIMEZONE
TZID:Europe/Amsterdam
BEGIN:DAYLIGHT
TZOFFSETFROM:+0100
TZOFFSETTO:+0200
TZNAME:CEST
DTSTART:20240331T010000
END:DAYLIGHT
BEGIN:STANDARD
TZOFFSETFROM:+0200
TZOFFSETTO:+0100
TZNAME:CET
DTSTART:20241027T010000
END:STANDARD
BEGIN:DAYLIGHT
TZOFFSETFROM:+0100
TZOFFSETTO:+0200
TZNAME:CEST
DTSTART:20250330T010000
END:DAYLIGHT
BEGIN:STANDARD
TZOFFSETFROM:+0200
TZOFFSETTO:+0100
TZNAME:CET
DTSTART:20251026T010000
END:STANDARD
BEGIN:DAYLIGHT
TZOFFSETFROM:+0100
TZOFFSETTO:+0200
TZNAME:CEST
DTSTART:20260329T010000
END:DAYLIGHT
BEGIN:STANDARD
TZOFFSETFROM:+0200
TZOFFSETTO:+0100
TZNAME:CET
DTSTART:20261025T010000
END:STANDARD
END:VTIMEZONE
BEGIN:VEVENT
DTSTART;TZID=Europe/Amsterdam:20251203T121500
DTEND;TZID=Europe/Amsterdam:20251203T170000
DTSTAMP:20260421T032848
CREATED:20240209T151857Z
LAST-MODIFIED:20251121T092333Z
UID:10013367-1764764100-1764781200@zennijmegen.nl
SUMMARY:Samu - werkmeditatie
DESCRIPTION:samu\n			\n				\n				\n				\n				\n				samu\n			\n				\n				\n				\n				\n				Van oudsher wordt ‘samu’ in de zentraditie gezien als het werk om het klooster in stand te houden.\n			\n				\n				\n				\n				\n				Bijvoorbeeld met aandacht de wc schoonmaken\, koken of tuinieren. Wie wel eens een zenretraite heeft gedaan is ermee bekend. Het is een activiteit waarmee je je eigen beoefening voortzet in alledaagse handelingen. Samu is daarmee niet wezenlijk anders dan je zitmeditatie. Het draait om precies dezelfde betrokkenheid bij wat op dit moment je aandacht vraagt. Hierin kun je een gevoel van verbinding en liefde ervaren. wat door je werkzaamheden ook anderen en je omgeving nog meer ten goede kan komen. Maar minstens zo belangrijk is dat je tijdens samu geconfronteerd kunt worden met gedoetjes waar je met elkaar in compassie van kunt proberen te leren. Verlichting op het kussen is één ding\, maar wat als je ervan af komt? Want hoe kom je samen tot een prettige aanpak en een goed resultaat? Juist samen door elkaar op humoristische\, verdrietige en uitdagende momenten te ontmoeten kun je relaties verdiepen\, of dat nou met jezelf\, de ander of de plek is. \n			\n			\n				\n				\n				\n				\n			\n				\n				\n				\n				\n				\n				\n				\n				\n				\n				\n				De komende tijd leggen we ons met name toe op de aanleg van de tuin rondom De Zendo. Met deze tuin hopen we de rust en inspiratie nog meer toegankelijk te maken voor onszelf\, maar ook voor alle passanten op het park met meer of minder interesse in zen. \nHet tuinieren brengt ons in de gelegenheid om aandacht\, speelsheid en verwondering kracht bij te zetten. Onze werktitel ‘spirituele speeltuin’ inspireert ons om te komen tot een tuin die Kwan Yin (de godin van compassie) siert. Wekelijks organiseren we een samu-moment op woensdagmiddag. Soms zijn er ook andere samu-dagen. Houd daarvoor de agenda in de gaten. \n			\n			\n				\n				\n				\n				\n			\n				\n				\n			\n				\n				\n				\n				\n				\n				\n				\n				\n				\n				\n				\n				\n				\n				\n				\n				\n				\n				Samen starten\nVoor ieder die wil aansluiten\, we starten het samu-moment met soep en brood en daarna een meditatie van 10 minuten en de bodhisattva-geloften. \n12.20u lunch met soep (a.j.b. even aanmelden via Lotte)12.45u 10 minuten meditatie en bodhisattva-geloften \nAls je later wilt komen is dat natuurlijk ook prima. Een uurtje helpen kan ook en iedereen kan de hele middag in- en uitlopen. \nDoe je mee?\nMeld je aan via 0683404090 en lotte@zennijmegen.nl dan houden we rekening met lekkers tijdens de koffie en thee! \nEr is ook een Signal-groep waarin je op de hoogte gehouden kan worden van ontwikkelingen en last-minute wijzigingen.Wil je hieraan toegevoegd worden? Stuur dan een berichtje naar Lotte via het bovenstaande nummer. \nBenieuwd naar alle geplande dagen? Bekijk hier de agenda. \n 
URL:https://zennijmegen.nl/event/samu-2-2-2/2025-12-03/
LOCATION:De Zendo\, Profetenlaan 2\, Heilig Landstichting\, Gelderland\, 6564 BL\, Nederland
CATEGORIES:Retraite
ATTACH;FMTTYPE=image/png:https://zennijmegen.nl/wp-content/uploads/2023/10/Samu.png
ORGANIZER;CN="Misha Yushin sensei":MAILTO:misha@zennijmegen.nl
END:VEVENT
BEGIN:VEVENT
DTSTART;TZID=Europe/Amsterdam:20251210T121500
DTEND;TZID=Europe/Amsterdam:20251210T170000
DTSTAMP:20260421T032848
CREATED:20240209T151857Z
LAST-MODIFIED:20251121T092333Z
UID:10013368-1765368900-1765386000@zennijmegen.nl
SUMMARY:Samu - werkmeditatie
DESCRIPTION:samu\n			\n				\n				\n				\n				\n				samu\n			\n				\n				\n				\n				\n				Van oudsher wordt ‘samu’ in de zentraditie gezien als het werk om het klooster in stand te houden.\n			\n				\n				\n				\n				\n				Bijvoorbeeld met aandacht de wc schoonmaken\, koken of tuinieren. Wie wel eens een zenretraite heeft gedaan is ermee bekend. Het is een activiteit waarmee je je eigen beoefening voortzet in alledaagse handelingen. Samu is daarmee niet wezenlijk anders dan je zitmeditatie. Het draait om precies dezelfde betrokkenheid bij wat op dit moment je aandacht vraagt. Hierin kun je een gevoel van verbinding en liefde ervaren. wat door je werkzaamheden ook anderen en je omgeving nog meer ten goede kan komen. Maar minstens zo belangrijk is dat je tijdens samu geconfronteerd kunt worden met gedoetjes waar je met elkaar in compassie van kunt proberen te leren. Verlichting op het kussen is één ding\, maar wat als je ervan af komt? Want hoe kom je samen tot een prettige aanpak en een goed resultaat? Juist samen door elkaar op humoristische\, verdrietige en uitdagende momenten te ontmoeten kun je relaties verdiepen\, of dat nou met jezelf\, de ander of de plek is. \n			\n			\n				\n				\n				\n				\n			\n				\n				\n				\n				\n				\n				\n				\n				\n				\n				\n				De komende tijd leggen we ons met name toe op de aanleg van de tuin rondom De Zendo. Met deze tuin hopen we de rust en inspiratie nog meer toegankelijk te maken voor onszelf\, maar ook voor alle passanten op het park met meer of minder interesse in zen. \nHet tuinieren brengt ons in de gelegenheid om aandacht\, speelsheid en verwondering kracht bij te zetten. Onze werktitel ‘spirituele speeltuin’ inspireert ons om te komen tot een tuin die Kwan Yin (de godin van compassie) siert. Wekelijks organiseren we een samu-moment op woensdagmiddag. Soms zijn er ook andere samu-dagen. Houd daarvoor de agenda in de gaten. \n			\n			\n				\n				\n				\n				\n			\n				\n				\n			\n				\n				\n				\n				\n				\n				\n				\n				\n				\n				\n				\n				\n				\n				\n				\n				\n				\n				Samen starten\nVoor ieder die wil aansluiten\, we starten het samu-moment met soep en brood en daarna een meditatie van 10 minuten en de bodhisattva-geloften. \n12.20u lunch met soep (a.j.b. even aanmelden via Lotte)12.45u 10 minuten meditatie en bodhisattva-geloften \nAls je later wilt komen is dat natuurlijk ook prima. Een uurtje helpen kan ook en iedereen kan de hele middag in- en uitlopen. \nDoe je mee?\nMeld je aan via 0683404090 en lotte@zennijmegen.nl dan houden we rekening met lekkers tijdens de koffie en thee! \nEr is ook een Signal-groep waarin je op de hoogte gehouden kan worden van ontwikkelingen en last-minute wijzigingen.Wil je hieraan toegevoegd worden? Stuur dan een berichtje naar Lotte via het bovenstaande nummer. \nBenieuwd naar alle geplande dagen? Bekijk hier de agenda. \n 
URL:https://zennijmegen.nl/event/samu-2-2-2/2025-12-10/
LOCATION:De Zendo\, Profetenlaan 2\, Heilig Landstichting\, Gelderland\, 6564 BL\, Nederland
CATEGORIES:Retraite
ATTACH;FMTTYPE=image/png:https://zennijmegen.nl/wp-content/uploads/2023/10/Samu.png
ORGANIZER;CN="Misha Yushin sensei":MAILTO:misha@zennijmegen.nl
END:VEVENT
BEGIN:VEVENT
DTSTART;TZID=Europe/Amsterdam:20251214T120000
DTEND;TZID=Europe/Amsterdam:20251214T123000
DTSTAMP:20260421T032848
CREATED:20240806T100608Z
LAST-MODIFIED:20250919T123057Z
UID:10014168-1765713600-1765715400@zennijmegen.nl
SUMMARY:Stilte voor de wereld - voor welzijn van alle mensen\, dieren en de aarde
DESCRIPTION:Stilte voor de wereld\n			\n				\n				\n				\n				\n				voor welzijn van alle mensen\, dieren en de aarde\n			\n				\n				\n				\n				\n				Samen zitten in stilte op diverse plekken in Nederland. We staan stil bij uitdagingen van de mensen en de natuur in deze tijd. Stilte kan helpen om vrede\, kracht en verbinding te vinden in jezelf en met elkaar. Vanuit deze verbinding volgt de gezamenlijke verandering voor meer welzijn van alle mensen\, dieren en de aarde. Doe je mee? \nWanneer: elke 2e zondag van de maand van 12.00 – 12.30 uur \nWaar: De fontein op de boulevard voor station Nijmegen Centraal. Dit is in het midden van de Van Schaek Mathonsingel. Klik hier voor de locatie op Google Maps. \nVoor wie: Iedereen die zich betrokken voelt bij de grote uitdagingen van deze tijd \nHieronder een zomers en een winters plaatje: \n 
URL:https://zennijmegen.nl/event/stille-actie/2025-12-14/
LOCATION:Fontein voor Nijmegen CS\, Van Schaeck Mathonsingel\, Nijmegen
CATEGORIES:Extra aanbod
ATTACH;FMTTYPE=image/png:https://zennijmegen.nl/wp-content/uploads/2024/08/Stilte-web.png
END:VEVENT
BEGIN:VEVENT
DTSTART;TZID=Europe/Amsterdam:20251217T121500
DTEND;TZID=Europe/Amsterdam:20251217T170000
DTSTAMP:20260421T032848
CREATED:20240209T151857Z
LAST-MODIFIED:20251121T092333Z
UID:10013369-1765973700-1765990800@zennijmegen.nl
SUMMARY:Samu - werkmeditatie
DESCRIPTION:samu\n			\n				\n				\n				\n				\n				samu\n			\n				\n				\n				\n				\n				Van oudsher wordt ‘samu’ in de zentraditie gezien als het werk om het klooster in stand te houden.\n			\n				\n				\n				\n				\n				Bijvoorbeeld met aandacht de wc schoonmaken\, koken of tuinieren. Wie wel eens een zenretraite heeft gedaan is ermee bekend. Het is een activiteit waarmee je je eigen beoefening voortzet in alledaagse handelingen. Samu is daarmee niet wezenlijk anders dan je zitmeditatie. Het draait om precies dezelfde betrokkenheid bij wat op dit moment je aandacht vraagt. Hierin kun je een gevoel van verbinding en liefde ervaren. wat door je werkzaamheden ook anderen en je omgeving nog meer ten goede kan komen. Maar minstens zo belangrijk is dat je tijdens samu geconfronteerd kunt worden met gedoetjes waar je met elkaar in compassie van kunt proberen te leren. Verlichting op het kussen is één ding\, maar wat als je ervan af komt? Want hoe kom je samen tot een prettige aanpak en een goed resultaat? Juist samen door elkaar op humoristische\, verdrietige en uitdagende momenten te ontmoeten kun je relaties verdiepen\, of dat nou met jezelf\, de ander of de plek is. \n			\n			\n				\n				\n				\n				\n			\n				\n				\n				\n				\n				\n				\n				\n				\n				\n				\n				De komende tijd leggen we ons met name toe op de aanleg van de tuin rondom De Zendo. Met deze tuin hopen we de rust en inspiratie nog meer toegankelijk te maken voor onszelf\, maar ook voor alle passanten op het park met meer of minder interesse in zen. \nHet tuinieren brengt ons in de gelegenheid om aandacht\, speelsheid en verwondering kracht bij te zetten. Onze werktitel ‘spirituele speeltuin’ inspireert ons om te komen tot een tuin die Kwan Yin (de godin van compassie) siert. Wekelijks organiseren we een samu-moment op woensdagmiddag. Soms zijn er ook andere samu-dagen. Houd daarvoor de agenda in de gaten. \n			\n			\n				\n				\n				\n				\n			\n				\n				\n			\n				\n				\n				\n				\n				\n				\n				\n				\n				\n				\n				\n				\n				\n				\n				\n				\n				\n				Samen starten\nVoor ieder die wil aansluiten\, we starten het samu-moment met soep en brood en daarna een meditatie van 10 minuten en de bodhisattva-geloften. \n12.20u lunch met soep (a.j.b. even aanmelden via Lotte)12.45u 10 minuten meditatie en bodhisattva-geloften \nAls je later wilt komen is dat natuurlijk ook prima. Een uurtje helpen kan ook en iedereen kan de hele middag in- en uitlopen. \nDoe je mee?\nMeld je aan via 0683404090 en lotte@zennijmegen.nl dan houden we rekening met lekkers tijdens de koffie en thee! \nEr is ook een Signal-groep waarin je op de hoogte gehouden kan worden van ontwikkelingen en last-minute wijzigingen.Wil je hieraan toegevoegd worden? Stuur dan een berichtje naar Lotte via het bovenstaande nummer. \nBenieuwd naar alle geplande dagen? Bekijk hier de agenda. \n 
URL:https://zennijmegen.nl/event/samu-2-2-2/2025-12-17/
LOCATION:De Zendo\, Profetenlaan 2\, Heilig Landstichting\, Gelderland\, 6564 BL\, Nederland
CATEGORIES:Retraite
ATTACH;FMTTYPE=image/png:https://zennijmegen.nl/wp-content/uploads/2023/10/Samu.png
ORGANIZER;CN="Misha Yushin sensei":MAILTO:misha@zennijmegen.nl
END:VEVENT
BEGIN:VEVENT
DTSTART;TZID=Europe/Amsterdam:20251221T103000
DTEND;TZID=Europe/Amsterdam:20251221T121500
DTSTAMP:20260421T032848
CREATED:20250130T123045Z
LAST-MODIFIED:20251014T144707Z
UID:10012720-1766313000-1766319300@zennijmegen.nl
SUMMARY:Stille zondag - 3e zondag v/d maand
DESCRIPTION:STILLE ZONDAG\n\n\n\n\nDe zittende meditatie (zazen) biedt in vele opzichten de basis van je zenbeoefening.\n\n\n\n\nDe eerste en derde zondag van de maand is er daarom bij Zen Centrum Nijmegen gelegenheid om langer in stilte te zitten.\nZeker op zondagochtend ondersteunt de groene en verstillende omgeving van De Zendo hierbij enorm.\nOok is het een mooie gelegenheid om in je weekend een moment van samen zijn te delen met andere sanghaleden.\nDe stille zondag wordt begeleid door 3 van onze ervaren sanghaleden Ineke Teunissen\, Janneke Robben & Freek Turlings. \nHet programma van de ochtend is als volgt: \n10:30u hartsoetra\n10:35u 3 zazenperioden afgewisseld met loopmeditatie\n12:05u theeceremonie & bodhisattvageloften\n12:15u einde \nDe ochtend is vrij toegankelijk voor alle sanghaleden van Zen Centrum Nijmegen.\nBen je geen sanghalid (en wel ervaring met zazen) dan vragen we een donatie van €7\,50\,- per zondag. \n\nNB Dit twee-maandelijkste ritme wordt vrijwel het gehele jaar door aangehouden.\nSoms worden de stille zondagen uitgebreid met een retraite-dag of met een service.\nHet is goed om daarom altijd even in de web-agenda te kijken voor je komst. \n\nFreek & Ineke zien je de komende stille zondag graag tegemoet! \n\n 
URL:https://zennijmegen.nl/event/stille-zondag-3e-zondag-v-d-maand-2-2/2025-12-21/
LOCATION:Gelderland
CATEGORIES:Extra aanbod
ATTACH;FMTTYPE=image/png:https://zennijmegen.nl/wp-content/uploads/2024/06/Stille-zondag.png
END:VEVENT
BEGIN:VEVENT
DTSTART;TZID=Europe/Amsterdam:20251228T100000
DTEND;TZID=Europe/Amsterdam:20251228T113000
DTSTAMP:20260421T032848
CREATED:20251117T092345Z
LAST-MODIFIED:20251117T092345Z
UID:10013031-1766916000-1766921400@zennijmegen.nl
SUMMARY:Dana Daisan
DESCRIPTION:Dana daisan\n			\n				\n				\n				\n				\n				in gesprek met Dick sensei\n			\n				\n				\n				\n				\n				Tijdens dana daisan kun je met Dick een persoonlijk gesprek aanvragen. Dit kan gaan over onderwerpen rondom zenbeoefening\, maar is juist daarmee ook geschikt voor het gezamenlijk onderzoeken van allerhande levensthema’s. \nWanneer: Iedere laatste zondag van de maand van 10:00-11:30u\nWaar: De zendo bij Dick thuis\, Petruslaan 1\, 6565AJ\, Heilig Landstichting\nKosten: Vrijwillige bijdrage\nAanmelden: dick@zennijmegen.nl
URL:https://zennijmegen.nl/event/dana-daisan-2-2/2025-12-28/
LOCATION:De Petruslaan zendo\, Petruslaan 1\, Heilig Landstichting\, Gelderland\, 6564AJ\, Nederland
CATEGORIES:Extra aanbod
ATTACH;FMTTYPE=image/jpeg:https://zennijmegen.nl/wp-content/uploads/2022/06/Zen-Centrum-Nijmegen_Dick-Verstegen.jpg
ORGANIZER;CN="Misha Yushin sensei":MAILTO:misha@zennijmegen.nl
END:VEVENT
END:VCALENDAR