BEGIN:VCALENDAR
VERSION:2.0
PRODID:-//Zen Centrum Nijmegen - ECPv6.15.18//NONSGML v1.0//EN
CALSCALE:GREGORIAN
METHOD:PUBLISH
X-WR-CALNAME:Zen Centrum Nijmegen
X-ORIGINAL-URL:https://zennijmegen.nl
X-WR-CALDESC:Evenementen voor Zen Centrum Nijmegen
REFRESH-INTERVAL;VALUE=DURATION:PT1H
X-Robots-Tag:noindex
X-PUBLISHED-TTL:PT1H
BEGIN:VTIMEZONE
TZID:Europe/Amsterdam
BEGIN:DAYLIGHT
TZOFFSETFROM:+0100
TZOFFSETTO:+0200
TZNAME:CEST
DTSTART:20230326T010000
END:DAYLIGHT
BEGIN:STANDARD
TZOFFSETFROM:+0200
TZOFFSETTO:+0100
TZNAME:CET
DTSTART:20231029T010000
END:STANDARD
BEGIN:DAYLIGHT
TZOFFSETFROM:+0100
TZOFFSETTO:+0200
TZNAME:CEST
DTSTART:20240331T010000
END:DAYLIGHT
BEGIN:STANDARD
TZOFFSETFROM:+0200
TZOFFSETTO:+0100
TZNAME:CET
DTSTART:20241027T010000
END:STANDARD
BEGIN:DAYLIGHT
TZOFFSETFROM:+0100
TZOFFSETTO:+0200
TZNAME:CEST
DTSTART:20250330T010000
END:DAYLIGHT
BEGIN:STANDARD
TZOFFSETFROM:+0200
TZOFFSETTO:+0100
TZNAME:CET
DTSTART:20251026T010000
END:STANDARD
BEGIN:DAYLIGHT
TZOFFSETFROM:+0100
TZOFFSETTO:+0200
TZNAME:CEST
DTSTART:20260329T010000
END:DAYLIGHT
BEGIN:STANDARD
TZOFFSETFROM:+0200
TZOFFSETTO:+0100
TZNAME:CET
DTSTART:20261025T010000
END:STANDARD
BEGIN:DAYLIGHT
TZOFFSETFROM:+0100
TZOFFSETTO:+0200
TZNAME:CEST
DTSTART:20270328T010000
END:DAYLIGHT
BEGIN:STANDARD
TZOFFSETFROM:+0200
TZOFFSETTO:+0100
TZNAME:CET
DTSTART:20271031T010000
END:STANDARD
END:VTIMEZONE
BEGIN:VEVENT
DTSTART;TZID=Europe/Amsterdam:20260413T194500
DTEND;TZID=Europe/Amsterdam:20260413T213000
DTSTAMP:20260416T025931
CREATED:20251121T112546Z
LAST-MODIFIED:20260406T073944Z
UID:10014638-1776109500-1776115800@zennijmegen.nl
SUMMARY:Sanghabijeenkomst | maandag - wachtlijst
DESCRIPTION:SANGHA BIJEENKOMST\n			\n				\n				\n				\n				\n				Zen is een doorlopende oefening die bij iedere stap op je levensweg van toepassing is. Het helpt enorm om hier – op een voor ieder unieke en eigen manier – gezamenlijk in op te trekken.\n			\n				\n				\n				\n				\n				Onze sanghabijeenkomsten bieden hiervoor structuur door wekelijks samen te mediteren en onze zenweg samen vanuit diverse invalshoeken te bestuderen en oefenen. De doorlopende groepen zijn gericht op mensen die het starters-traject hebben doorlopen of op andere wijze ervaring met zenmeditatie hebben opgedaan. \nDe maandaggroep komt bijeen o.l.v. Dick Benji roshi. De opbouw is: soetrarecitatie\, 25 minuten zitmeditatie (zazen)\, Dharmales (teisho)\, loopmeditatie (kinhin)\, 25 minuten zitmeditatie (zazen) met voor wie wil persoonlijk onderhoud (daisan)\, gezamenlijk ceremonieel theedrinken\, bodhisattvagelofte. \nKlik hier voor meer informatie over de opzet en aard van onze doorgaande groepen. \n			\n			\n				\n				\n				\n				\n			\n				\n				\n			\n				\n				\n				\n				\n				\n				\n				\n				\n				\n				\n				\n				\n				\n				\n				\n				\n				\n				Dick verstegen\nDe werkelijkheid die zijn leven elk moment aanbiedt\, is voor Dick de grote inspiratiebron. Hij erkent dit als een mysterie waar we onze vinger niet achter kunnen krijgen. Maar we kunnen het wel benaderen en steeds beter ‘zien’ via de vraag: wat is er gaande? Dan kan het opeens zijn dat we ons opgenomen weten in dat mysterie.\n			\n				\n				\n				\n				\n				Dick laat zich in zijn onderricht leiden door oude teksten en actuele gebeurtenissen. De grote en oeroude zen-traditie biedt hem een overtuigende bedding om het mysterie te omcirkelen. Hij schat die traditie hoog\, maar is ervan doordrongen dat ook zen slechts een vorm is om het ‘re-ligare’ (weer in verbinding brengen) uit te dragen. Hij werkt graag in een interactieve setting en biedt ook koan-studie aan. \n			\n			\n				\n				\n				\n				\n				\n				\n				\n				\n				\n				\n			\n			\n				\n				\n				\n				\n			\n				\n				\n			\n				\n				\n				\n				\n				\n				\n				\n				\n				\n				\n				\n				\n				\n				\n				\n				\n				\n				Aanmelden\nVia het onderstaande formulier kun je je aanmelden voor deze activiteit.\n			\n			\n				\n				\n				\n				\n				\n				\n				\n				\n					\n						\n				\n				\n				\n				\n				Voornaam\n				\n			 \n				\n				\n				\n				\n				Achternaam\n				\n			 \n				\n				\n				\n				\n				Straat + huisnummer\n				\n			 \n				\n				\n				\n				\n				Postcode + woonplaats\n				\n			 \n				\n				\n				\n				\n				E-mailadres\n				\n			 \n				\n				\n				\n				\n				Telefoonnummer\n				\n			 \n				\n				\n				\n				\n				Bericht\n				\n			 \n						\n						\n							\n			\n				\n					14 + 5 = \n				 \n			\n							Aanmelden
URL:https://zennijmegen.nl/event/doorgaande-groep-maandag-2-2-2-2-2/2026-04-13/
LOCATION:De Zendo\, Profetenlaan 2\, Heilig Landstichting\, Gelderland\, 6564 BL\, Nederland
CATEGORIES:Doorgaande groep
ATTACH;FMTTYPE=image/jpeg:https://zennijmegen.nl/wp-content/uploads/2022/06/Zen-Centrum-Nijmegen_Dick-Verstegen.jpg
ORGANIZER;CN="Dick Benji roshi":MAILTO:dick@zennijmegen.nl
END:VEVENT
BEGIN:VEVENT
DTSTART;TZID=Europe/Amsterdam:20260329T100000
DTEND;TZID=Europe/Amsterdam:20260329T113000
DTSTAMP:20260416T025932
CREATED:20251117T092345Z
LAST-MODIFIED:20251117T092345Z
UID:10013035-1774778400-1774783800@zennijmegen.nl
SUMMARY:Dana Daisan
DESCRIPTION:Dana daisan\n			\n				\n				\n				\n				\n				in gesprek met Dick sensei\n			\n				\n				\n				\n				\n				Tijdens dana daisan kun je met Dick een persoonlijk gesprek aanvragen. Dit kan gaan over onderwerpen rondom zenbeoefening\, maar is juist daarmee ook geschikt voor het gezamenlijk onderzoeken van allerhande levensthema’s. \nWanneer: Iedere laatste zondag van de maand van 10:00-11:30u\nWaar: De zendo bij Dick thuis\, Petruslaan 1\, 6565AJ\, Heilig Landstichting\nKosten: Vrijwillige bijdrage\nAanmelden: dick@zennijmegen.nl
URL:https://zennijmegen.nl/event/dana-daisan-2-2/2026-03-29/
LOCATION:De Petruslaan zendo\, Petruslaan 1\, Heilig Landstichting\, Gelderland\, 6564AJ\, Nederland
CATEGORIES:Extra aanbod
ATTACH;FMTTYPE=image/jpeg:https://zennijmegen.nl/wp-content/uploads/2022/06/Zen-Centrum-Nijmegen_Dick-Verstegen.jpg
ORGANIZER;CN="Misha Yushin sensei":MAILTO:misha@zennijmegen.nl
END:VEVENT
BEGIN:VEVENT
DTSTART;TZID=Europe/Amsterdam:20260228T093000
DTEND;TZID=Europe/Amsterdam:20260228T163000
DTSTAMP:20260416T025932
CREATED:20251106T105319Z
LAST-MODIFIED:20251209T192036Z
UID:10014603-1772271000-1772296200@zennijmegen.nl
SUMMARY:Studieklas - Hsin Hsin Ming
DESCRIPTION:Studieklas – Sandokai & Hsin Hsin Ming\n			\n				\n				\n				\n				\n				Verdieping in bronteksten van zen\n			\n				\n				\n				\n				\n				Wat houdt deze zenklas in?\nOp verzoek van de deelnemers aan mijn vorige zenklassen ga ik mijn volgende zenklassen niet wekelijks geven\, maar concentreren op één dag van 09.30 tot 16.30 uur in de oude zendo aan de Petruslaan 1. De eerste zenklas\, op zaterdag 31 januari\, wil ik wijden aan de Sandokai\, de tweede\, op zaterdag 28 februari\, aan de Hsin. Hsin Ming. Het programma gaat voor de Sandokai als volgt: \n09.30 uur Welkom en uitleg programma\n09.45 uur Meditatie\n10.00 uur Lectio Divina (traag lezen in overgave en met intense aandacht)\n10.30 uur Samen de tekst lezen\n11.00 uur Koffie in de keuken\n11.30 uur Wat staat daar eigenlijk? (Plenaire behandeling)\n12.30 uur Lunch……wandelen\, thee\n14.00 uur Vervolg zenklas: Samenvatting en gedachtewisseling\n14.30 uur Tweetallen spreken over de vraag: Raakt de tekst mij\, waar en hoe?\n15.30 uur Plenaire terugkoppeling per tweetal\n16.00 uur Meditatie\n16.15 uur Evaluatie in twee zinnen \nWij vragen de deelnemers zelf iets voor de lunch mee te brengen. Wij zorgen voor koffie en thee. Graag inschrijven op de website van ons centrum. Dat kan ook via deze link. De zenklas over de Hsin Hsin Ming krijgt een iets ander programma. Donatiesuggestie per zenklas: € 45\,– voor leden en € 75\,– voor gasten. Is dit voor jou niet mogelijk? Neem a.j.b. contact op met onze penningmeester Hans via hans@zennijmegen.nl\nGraag tot ziens! \nDick Benji roshi \n			\n			\n				\n				\n				\n				\n			\n				\n				\n			\n				\n				\n				\n				\n				\n				\n				\n				\n				\n				\n				\n				\n				\n				\n				\n				\n				\n				Aanmelden\nVia het onderstaande formulier kunt u zich aanmelden voor deze activiteit. \n			\n			\n				\n				\n				\n				\n				\n				\n				\n				\n					\n						\n				\n				\n				\n				\n				Voornaam\n				\n			 \n				\n				\n				\n				\n				Achternaam\n				\n			 \n				\n				\n				\n				\n				E-mailadres\n				\n			 \n				\n				\n				\n				\n				Bericht\n				\n			 \n						\n						\n							\n			\n				\n					14 + 9 = \n				 \n			\n							Aanmelden
URL:https://zennijmegen.nl/event/studieklas-hsin-hsin-ming/
CATEGORIES:Extra aanbod
ATTACH;FMTTYPE=image/jpeg:https://zennijmegen.nl/wp-content/uploads/2022/06/Zen-Centrum-Nijmegen_Dick-Verstegen.jpg
ORGANIZER;CN="Dick Benji roshi":MAILTO:dick@zennijmegen.nl
END:VEVENT
BEGIN:VEVENT
DTSTART;TZID=Europe/Amsterdam:20260131T093000
DTEND;TZID=Europe/Amsterdam:20260131T163000
DTSTAMP:20260416T025932
CREATED:20251106T095153Z
LAST-MODIFIED:20251209T192239Z
UID:10009130-1769851800-1769877000@zennijmegen.nl
SUMMARY:Studieklas - Sandokai
DESCRIPTION:Studieklas – Sandokai & Hsin Hsin Ming\n			\n				\n				\n				\n				\n				Verdieping in bronteksten van zen\n			\n				\n				\n				\n				\n				Wat houdt deze zenklas in?Op verzoek van de deelnemers aan mijn vorige zenklassen ga ik mijn volgende zenklassen niet wekelijks geven\, maar concentreren op één dag van 09.30 tot 16.30 uur in de oude zendo aan de Petruslaan 1. De eerste zenklas\, op zaterdag 31 januari\, wil ik wijden aan de Sandokai\, de tweede\, op zaterdag 28 februari\, aan de Hsin. Hsin Ming. Het programma gaat voor de Sandokai als volgt: \n09.30 uur Welkom en uitleg programma09.45 uur Meditatie10.00 uur Lectio Divina (traag lezen in overgave en met intense aandacht)10.30 uur Samen de tekst lezen11.00 uur Koffie in de keuken11.30 uur Wat staat daar eigenlijk? (Plenaire behandeling)12.30 uur Lunch……wandelen\, thee14.00 uur Vervolg zenklas: Samenvatting en gedachtewisseling14.30 uur Tweetallen spreken over de vraag: Raakt de tekst mij\, waar en hoe?15.30 uur Plenaire terugkoppeling per tweetal16.00 uur Meditatie16.15 uur Evaluatie in twee zinnen \nWij vragen de deelnemers zelf iets voor de lunch mee te brengen. Wij zorgen voor koffie en thee. Graag inschrijven op de website van ons centrum. Dat kan ook via deze link. De zenklas over de Hsin Hsin Ming krijgt een iets ander programma. Donatiesuggestie per zenklas: € 45\,– voor leden en € 75\,– voor gasten. Is dit voor jou niet mogelijk? Neem a.j.b. contact op met onze penningmeester Hans via hans@zennijmegen.nlGraag tot ziens! \nDick Benji roshi \n			\n			\n				\n				\n				\n				\n			\n				\n				\n			\n				\n				\n				\n				\n				\n				\n				\n				\n				\n				\n				\n				\n				\n				\n				\n				\n				\n				Aanmelden\nVia het onderstaande formulier kunt u zich aanmelden voor deze activiteit. \n			\n			\n				\n				\n				\n				\n				\n				\n				\n				\n					\n						\n				\n				\n				\n				\n				Voornaam\n				\n			 \n				\n				\n				\n				\n				Achternaam\n				\n			 \n				\n				\n				\n				\n				E-mailadres\n				\n			 \n				\n				\n				\n				\n				Bericht\n				\n			 \n						\n						\n							\n			\n				\n					7 + 7 = \n				 \n			\n							Aanmelden
URL:https://zennijmegen.nl/event/studieklasjanfeb2026/
CATEGORIES:Extra aanbod
ATTACH;FMTTYPE=image/jpeg:https://zennijmegen.nl/wp-content/uploads/2022/06/Zen-Centrum-Nijmegen_Dick-Verstegen.jpg
ORGANIZER;CN="Dick Benji roshi":MAILTO:dick@zennijmegen.nl
END:VEVENT
BEGIN:VEVENT
DTSTART;TZID=Europe/Amsterdam:20251128T200000
DTEND;TZID=Europe/Amsterdam:20251128T220000
DTSTAMP:20260416T025932
CREATED:20251003T130754Z
LAST-MODIFIED:20251007T092136Z
UID:10014572-1764360000-1764367200@zennijmegen.nl
SUMMARY:Boekpresentatie 'Gedeeld besef'
DESCRIPTION:Boekpresentatie\n			\n				\n				\n				\n				\n				Mijn boek Welkom in de werkelijkheid kwam in 2023 in handen van mijn vroegere schoolvriend Hans Korteweg. Hij had op zijn beurt een behartenswaardig boek geschreven (Zonder einde) waaruit ik hem in Welkom citeerde. Zo vonden we elkaar weer.\n			\n				\n				\n				\n				\n				Door Dick Benji Roshi – Begin jaren zestig waren we uit elkaar gegroeid. En zestig jaar later had ik hem opeens weer aan de telefoon. Want hij was getroffen door het feit dat we spiritueel gezien op dezelfde golflengte zitten. We pakten onze oude vriendschap weer op en besloten samen een boek te schrijven. Dat is inmiddels af en het komt half november uit onder de titel Gedeeld besef\, brieven over het wonder in het alledaagse. \nSanghaleden en andere geïnteresseerden worden uitgenodigd bij de boekpresentatie in Zutphen aanwezig te zijn. De presentatie gebeurt in Dat Bolwerck en wordt georganiseerd door Uitgeverij Asoka in. samenwerking met Boekhandel Van Someren & Ten Bosch. Wacht niet te lang met je aanmelden\, want het aantal zitplaatsen in Dat Bolwerck is beperkt. Heel graag tot dan! \n Wanneer: Vrijdagavond 28 november van 20.00 tot ca 22.00 uur.Waar: Dat Bolwerck\, Zaadmarkt 112 – 7201 DE Zutphen. Aanmelden: stuur a.j.b. een mailtje naar welkom@zennijmegen.nl 
URL:https://zennijmegen.nl/event/boekpresentatie-gedeeld-besef/
LOCATION:De Zendo\, Profetenlaan 2\, Heilig Landstichting\, Gelderland\, 6564 BL\, Nederland
CATEGORIES:Retraite
ATTACH;FMTTYPE=image/png:https://zennijmegen.nl/wp-content/uploads/2025/10/boek.png
ORGANIZER;CN="Misha Yushin sensei":MAILTO:misha@zennijmegen.nl
END:VEVENT
BEGIN:VEVENT
DTSTART;TZID=Europe/Amsterdam:20250829T180000
DTEND;TZID=Europe/Amsterdam:20250829T213000
DTSTAMP:20260416T025932
CREATED:20230522T111407Z
LAST-MODIFIED:20250821T084940Z
UID:10003083-1756490400-1756503000@zennijmegen.nl
SUMMARY:Zomer Sangha Feest
DESCRIPTION:zomer Sangha Feest\n			\n				\n				\n				\n				\n				Dit jaar vieren we op vrijdag 29 augustus ons sanghafeest! \nWat gaan we doen?Er komt een hapje te eten\, er is zomerse achtergrondmuziek\, ruimte voor ontmoeting en creativiteit. De insteek van de avond is bovenal om op een gezellige manier bevriende sanghaleden te ontmoeten én kennis te maken met nog voor jou onbekende mede zennies en zendo-gangers. Vrolijk\, zomers en in lijn met ons zomerthema; flierefluitend. \nAls ‘conversation starter’ dit jaar;Kun je een mudra (boeddhistische handhouding) bedenken die iets over jou zegt? Misschien opgerichte middelvingers daargelaten: alle handhoudingen zijn goed en niets is te gek.  Het hoeft niet heel serieus hoor! \nPotluck met als thema ‘vegetarisch mediterraans’Tijdens het sanghafeest organiseren we het eten middels een potluck. Dit is een gezellige en praktische manier om eten te organiseren voor een grote groep mensen. Doordat iedereen een gerecht(je) meeneemt is er voor iedereen ruim voldoende eten en kun je van veel verschillende hapjes smikkelen. \nAandachtspunten voor de potluck:+Het thema is ‘vegetarisch mediterraans’. Dit om de hapjes op je bord een beetje te matchen.+Zou je óf een hoofdgerecht óf een toetje voor ongeveer 4 personen kunnen meenemen? Na afloop kun je wat eventueel over is en je eigen servies weer meenemen.+Voor borrelhapjes\, koffie\, thee\, frisdrank\, wijntjes en biertjes wordt gezorgd. \nDe inloop is van 18:00u – 18:30u. Het potluck-buffet opent om 18:30u en rond 21:30u beginnen we huiswaarts te gaan. Heel fijn als je je hieronder wilt aanmelden zodat we rekening kunnen houden met de inkoop voor wijn\, sap\, en bio-biertjes. \n			\n			\n				\n				\n				\n				\n			\n				\n				\n			\n				\n				\n				\n				\n				\n				\n				\n				\n				\n				\n				\n				\n				\n				\n				\n				\n				\n				Voor wie?Iedereen die zich betrokken voelt bij de Kwan Yin Sangha en De Zendo is van harte welkom! Een of twee gasten meenemen mag ook.Meld je hieronder (gratis) aan en dan zien we elkaar de 29 augustus! \nVrijwilligers in het zonnetjeWe vieren het zonlicht wat omstreeks deze dagen het langste schijnt\, maar we willen met dit feest ook graag alle vrijwilligers in het zonnetje zetten. Vele handen hebben het afgelopen jaar bijgedragen aan de zorg voor onze sangha en ons onderkomen De Zendo. Met woord\, daad\, of andere kwaliteiten. Voel jij je aangesproken? Dit feest is zeker ook als dank voor jou bedoeld! \n			\n			\n				\n				\n				\n				\n				\n				\n				\n				\n				\n				\n			\n			\n				\n				\n				\n				\n			\n				\n				\n			\n				\n				\n				\n				\n				\n				\n				\n				\n				\n				\n				\n				\n				\n				\n				\n				\n				\n				Aanmelden\nVia het onderstaande formulier kun je je aanmelden voor deze activiteit. \n			\n			\n				\n				\n				\n				\n				\n				\n				\n				\n					\n						\n				\n				\n				\n				\n				Voornaam\n				\n			 \n				\n				\n				\n				\n				Achternaam\n				\n			 \n				\n				\n				\n				\n				E-mailadres\n				\n			 \n						\n						\n							\n			\n				\n					7 + 12 = \n				 \n			\n							Aanmelden
URL:https://zennijmegen.nl/event/midzomersanghafeest/
LOCATION:De Zendo\, Profetenlaan 2\, Heilig Landstichting\, Gelderland\, 6564 BL\, Nederland
CATEGORIES:Extra aanbod
ATTACH;FMTTYPE=image/png:https://zennijmegen.nl/wp-content/uploads/2023/05/sanghafeest2.png
ORGANIZER;CN="Misha Yushin sensei":MAILTO:misha@zennijmegen.nl
END:VEVENT
BEGIN:VEVENT
DTSTART;TZID=Europe/Amsterdam:20250208T110000
DTEND;TZID=Europe/Amsterdam:20250208T123000
DTSTAMP:20260416T025932
CREATED:20241118T131539Z
LAST-MODIFIED:20241118T133151Z
UID:10009129-1739012400-1739017800@zennijmegen.nl
SUMMARY:Verdiepingsklas - hartsoetra
DESCRIPTION:Hartsoetra – verdiepingsklas\n			\n				\n				\n				\n				\n				Verdieping in de oertekst van zen\n			\n				\n				\n				\n				\n				Wat houdt deze zenklas in?Van 11 januari t/m 15 februari ga ik elke zaterdagochtend van 10.00 uur tot 11.30 uur een Zenklas Hartsoetra geven. We beginnen met een korte meditatie en het reciteren van de Hartsoetra. Ongeacht je voorkennis; iedereen kan meedoen!Daarna houd ik een praatje dat zich toespitst op inhoud en betekenis van bepaalde elementen uit de teksten. Vervolgens wijden we ons aan een moderne vorm van ‘lectio divina’. Gezamenlijk toegewijd lezen en bespreken. Bij ons wordt dat: voorlezen door een van de deelnemers\, dan voor jezelf nog eens lezen in stilte en tenslotte zin voor zin nog eens lezen en uitwisselen. Welkom!  \nDonatieVoor sanghaleden is de donatiesuggestie voor de hele serie: € 50\,–Voor gasten is de donatiesuggestie € 100\,–Is dit voor jou niet mogelijk? Neem a.j.b. contact op met onze penningmeester Hans via hans@zennijmegen.nlGraag tot ziens! \n			\n			\n				\n				\n				\n				\n			\n				\n				\n			\n				\n				\n				\n				\n				\n				\n				\n				\n				\n				\n				\n				\n				\n				\n				\n				\n				\n				Aanmelden\nVia het onderstaande formulier kunt u zich aanmelden voor deze activiteit. \n			\n			\n				\n				\n				\n				\n				\n				\n				\n				\n					\n						\n				\n				\n				\n				\n				Voornaam\n				\n			 \n				\n				\n				\n				\n				Achternaam\n				\n			 \n				\n				\n				\n				\n				E-mailadres\n				\n			 \n				\n				\n				\n				\n				Bericht\n				\n			 \n						\n						\n							\n			\n				\n					10 + 6 = \n				 \n			\n							Aanmelden
URL:https://zennijmegen.nl/event/hartsoetra-en-bodhisattvagelofte-zenklas-2/2025-02-08/
CATEGORIES:Retraite
ATTACH;FMTTYPE=image/jpeg:https://zennijmegen.nl/wp-content/uploads/2022/06/Zen-Centrum-Nijmegen_Dick-Verstegen.jpg
ORGANIZER;CN="Dick Benji roshi":MAILTO:dick@zennijmegen.nl
END:VEVENT
BEGIN:VEVENT
DTSTART;TZID=Europe/Amsterdam:20241006T120000
DTEND;TZID=Europe/Amsterdam:20241006T190000
DTSTAMP:20260416T025932
CREATED:20240929T061729Z
LAST-MODIFIED:20240929T062133Z
UID:10008967-1728216000-1728241200@zennijmegen.nl
SUMMARY:Zen Peacemakers - verbindingsdag
DESCRIPTION:Zen Peacemakers – Verbindingsdag\n			\n				\n				\n				\n				\n				Iedereen is van harte welkom!\n			\n				\n				\n				\n				\n				We zijn bijzonder gelukkig met de komst van de Zen Peacemakers op 6 oktober in onze zendo. Dit landelijke netwerk van geëngageerde boeddhisten komt voort uit onze traditie en biedt interessante aanknopingspunten voor onze zenbeoefening. Van harte welkom om op deze dag je bodhisattvapad te onderzoeken. Meer informatie vind je hier: \nHet Maatschappelijk Pad van de Bodhisattva \n \nGraag tot 6 oktober! \n 
URL:https://zennijmegen.nl/event/zen-peacemakers-verbindingsdag-2/
LOCATION:De Zendo\, Profetenlaan 2\, Heilig Landstichting\, Gelderland\, 6564 BL\, Nederland
CATEGORIES:Retraite
ATTACH;FMTTYPE=image/png:https://zennijmegen.nl/wp-content/uploads/2023/01/bel455.png
ORGANIZER;CN="Dick Benji roshi":MAILTO:dick@zennijmegen.nl
END:VEVENT
END:VCALENDAR